BEGIN:VCALENDAR
VERSION:2.0
PRODID:-//hacksw/handcal//NONSGML v1.0//EN
BEGIN:VEVENT
UID:5c493d0791bde90fa9885eb134faa6a5
DTSTAMP:20260422T065527Z

DTSTART:20250830T090000
DTEND:20250830T090000
SUMMARY:Alkebulan
DESCRIPTION:Alkebulan is an ancient name for Africa, meaning "the garden of Eden." It reflects the continent's rich history and was used by various indigenous groups, including the Moors and Nubians.\nWe are carefully curating only the best music to represent the "Mother of Mankind." From Roots Reggae, Arfobeat to Calipso Soca. As long as the riddim and lyrics supports life, We support the song trough rotation on Awokey Radio.\nWant to help with the curation? Tip us your suggestions for free or promote your favorite music with a Music Curator account. \nTip Us!

X-ALT-DESC;FMTTYPE=text/html:<!DOCTYPE HTML PUBLIC "-//W3C//DTD HTML 3.2//EN">\n<HTML>\n<HEAD>\n<META NAME="Generator" CONTENT="MS Exchange Server version 08.00.0681.000">\n<TITLE></TITLE>\n</HEAD>\n<BODY>\n<!-- Converted from text/rtf format -->\n\n<p>Alkebulan is an ancient name for Africa, meaning "the garden of Eden." It reflects the continent's rich history and was used by various indigenous groups, including the Moors and Nubians.</p><br /><p>We are carefully curating only the best music to represent the "Mother of Mankind." From Roots Reggae, Arfobeat to Calipso Soca. As long as the riddim and lyrics supports life, We support the song trough rotation on Awokey Radio.</p><br /><p>Want to help with the curation? <strong>Tip</strong> us your suggestions for free or promote your favorite music with a <strong>Music Curator</strong> account. </p><br /><p><a class="button" href="https://www.awokey.com/multimedia/audio/category/395-audio/radio/1121-awokey-life" target="_blank" rel="lightbox noopener">Tip Us!</a></p>\n\n</BODY>\n</HTML>

LOCATION:
END:VEVENT

END:VCALENDAR
