BEGIN:VCALENDAR
VERSION:2.0
PRODID:-//hacksw/handcal//NONSGML v1.0//EN
BEGIN:VEVENT
UID:22a2ac1b387984c1d44097270c0e0491
DTSTAMP:20260424T091441Z

DTSTART:20251227T103000
DTEND:20251227T133000
SUMMARY:Riddim In The Morning - 27.12.2025
DESCRIPTION:Riddim In The Morning

X-ALT-DESC;FMTTYPE=text/html:<!DOCTYPE HTML PUBLIC "-//W3C//DTD HTML 3.2//EN">\n<HTML>\n<HEAD>\n<META NAME="Generator" CONTENT="MS Exchange Server version 08.00.0681.000">\n<TITLE></TITLE>\n</HEAD>\n<BODY>\n<!-- Converted from text/rtf format -->\n\n<p>Riddim In The Morning</p>\n\n</BODY>\n</HTML>

LOCATION:Netherlands
END:VEVENT

END:VCALENDAR
