BEGIN:VCALENDAR
VERSION:2.0
PRODID:-//hacksw/handcal//NONSGML v1.0//EN
BEGIN:VEVENT
UID:2f8161d8623b3c491ea7d0ee6405c6ae
DTSTAMP:20260422T070006Z

DTSTART:20250313T103000
DTEND:20250313T133000
SUMMARY:Riddim In The Morning
DESCRIPTION:Riddim In The Morning featuring Deejfiber, DJ Bean &amp; DJ Kim V alongside various guest DJ's.\nVisit the website for more info

X-ALT-DESC;FMTTYPE=text/html:<!DOCTYPE HTML PUBLIC "-//W3C//DTD HTML 3.2//EN">\n<HTML>\n<HEAD>\n<META NAME="Generator" CONTENT="MS Exchange Server version 08.00.0681.000">\n<TITLE></TITLE>\n</HEAD>\n<BODY>\n<!-- Converted from text/rtf format -->\n\n<p>Riddim In The Morning featuring Deejfiber, DJ Bean &amp; DJ Kim V alongside various guest DJ's.</p><br /><p>Visit the website for more info</p>\n\n</BODY>\n</HTML>

LOCATION:Netherlands
END:VEVENT

END:VCALENDAR
