BEGIN:VCALENDAR
VERSION:2.0
PRODID:-//hacksw/handcal//NONSGML v1.0//EN
BEGIN:VEVENT
UID:ed1b1ef9812117d7477a77b3ce84bd18
DTSTAMP:20260422T112856Z

DTSTART:20250831T140000
DTEND:20250831T173000
SUMMARY:Zela's First Trip Around The Sun
DESCRIPTION:Kom je ook de verjaardag vieren van onze kleine zoneschijn Zela? \n\nLaat je even weten of je komt? Je kan een berichtje sturen via +31610095583.\n \nHopelijk tot gauw! \nGroeten Zela, Zion, Naomi and Julien

X-ALT-DESC;FMTTYPE=text/html:<!DOCTYPE HTML PUBLIC "-//W3C//DTD HTML 3.2//EN">\n<HTML>\n<HEAD>\n<META NAME="Generator" CONTENT="MS Exchange Server version 08.00.0681.000">\n<TITLE></TITLE>\n</HEAD>\n<BODY>\n<!-- Converted from text/rtf format -->\n\n<p>Kom je ook de verjaardag vieren van onze kleine zoneschijn Zela? <br /><br />Laat je even weten of je komt? Je kan een berichtje sturen via <a href="https://wa.me/31610095583" target="_blank" rel="noopener">+31610095583</a>.</p><br /><p> </p><br /><p>Hopelijk tot gauw! </p><br /><p>Groeten Zela, Zion, Naomi and Julien</p>\n\n</BODY>\n</HTML>

LOCATION:Beukenlaan 1, 2612 VC Delft, Netherlands
END:VEVENT

END:VCALENDAR
